BEGIN:VCALENDAR
VERSION:2.0
PRODID:-//ChamberMaster//Event Calendar 2.0//EN
METHOD:PUBLISH
X-PUBLISHED-TTL:P3D
REFRESH-INTERVAL:P3D
CALSCALE:GREGORIAN
BEGIN:VEVENT
DTSTART:20201031T200000Z
DTEND:20201031T230000Z
X-MICROSOFT-CDO-ALLDAYEVENT:FALSE
SUMMARY:Wacky Pumpkin Town Panic - A Family Who Dunnit Mystery Event
DESCRIPTION:This is a NON-Murder mystery event suitable for the whole family! Join us for fun games\, treats and a mystery!\n\n\n\nIt's time for the Pumpkin Town Annual Halloween Celebration\, traditionally held at the Pumpkin Town Recreation Center. The town's people are set to arrive on the scene in their best Halloween fashion in anticipation of the annual ultra-competitive Pumpkin Carving Challenge and Giant Pumpkin Contests!\n\n\n\nIt is rumored that some guests may have shocking news to unveil while others have been reported to be acting strange as ever. Let's hope all goes as planned on this night in Pumpkin Town!
X-ALT-DESC;FMTTYPE=text/html:<span style="background-color:rgb(255\, 255\, 255)\; color:rgb(29\, 33\, 41)\; font-family:helvetica\,arial\,sans-serif\; font-size:14px">This is a NON-Murder mystery event suitable for the whole family! Join us for fun games\, treats and a mystery!</span><br />\n<br />\n<span style="background-color:rgb(255\, 255\, 255)\; color:rgb(29\, 33\, 41)\; font-family:helvetica\,arial\,sans-serif\; font-size:14px">It&rsquo\;s time for the Pumpkin Town Annual Halloween Celebration\, traditionally held at the Pumpkin Town Recreation Center. The town&rsquo\;s people are set to arrive on the scene in their best Halloween fashion in anticipation of the annual ultra-competitive Pumpkin Carving Challenge and Giant Pumpkin Contests!</span><br />\n<br />\n<span style="background-color:rgb(255\, 255\, 255)\; color:rgb(29\, 33\, 41)\; font-family:helvetica\,arial\,sans-serif\; font-size:14px">It is rumored that some guests may have shocking news to unveil while others have been reported to be acting strange as ever. Let&rsquo\;s hope all goes as planned on this night in Pumpkin Town! </span>
LOCATION:1701 N 4th St. Suite D Coeur d'Alene\, ID 83815 (Located on the Spruce St. side of the building. Corner of Spruce & 4th St.)
UID:e.3132.3130
SEQUENCE:3
DTSTAMP:20260422T000407Z
URL:https://chambertest.marketingbeaver.com/events/details/wacky-pumpkin-town-panic-a-family-who-dunnit-mystery-event-3130
END:VEVENT

END:VCALENDAR
