BEGIN:VCALENDAR
VERSION:2.0
PRODID:-//ChamberMaster//Event Calendar 2.0//EN
METHOD:PUBLISH
X-PUBLISHED-TTL:P3D
REFRESH-INTERVAL:P3D
CALSCALE:GREGORIAN
BEGIN:VEVENT
DTSTART;VALUE=DATE:20210212
DTEND;VALUE=DATE:20210215
TRANSP:TRANSPARENT
X-MICROSOFT-CDO-ALLDAYEVENT:TRUE
SUMMARY:Valentine's Day Special
DESCRIPTION:Join us for Valentine's Day!
X-ALT-DESC;FMTTYPE=text/html:Join us for Valentine&#39\;s Day!
LOCATION:Coeur d'Alene Inn
UID:e.3132.3159
SEQUENCE:3
DTSTAMP:20260421T171837Z
URL:https://chambertest.marketingbeaver.com/events/details/valentine-s-day-special-3159
END:VEVENT

END:VCALENDAR
