BEGIN:VCALENDAR
VERSION:2.0
PRODID:-//ChamberMaster//Event Calendar 2.0//EN
METHOD:PUBLISH
X-PUBLISHED-TTL:P3D
REFRESH-INTERVAL:P3D
CALSCALE:GREGORIAN
BEGIN:VEVENT
DTSTART:20201108T020000Z
DTEND:20201108T060000Z
X-MICROSOFT-CDO-ALLDAYEVENT:FALSE
SUMMARY:Terror in a Toga - A Murder Mystery Event
DESCRIPTION:An evening of gladiator warfare and celebration is planned\n\nfor all of Rome to enjoy.\n\n\n\nAt the heart of the excitement sits Felix Festus\, a lanista looking to win the public favor   and in doing so\, a Senate seat   with the donation of his gladiators for exhibition. While no lives will be taken in the ring\; honor\, pride and the grand champion title are all at stake in the exhibition.\n\n\n\nAlthough lives will be spared in the arena\, the same will not hold true at the festivities.\n\n\n\nOne Roman will take their last breath at the party and it will be up to you to search out the guilty from the guileful. Was it the brute in a fight for his freedom? A senator unwilling to award another seat? A socialite who will not accept a rising of the classes? Or perhaps a slave whose secret runs so deep that murder is the only way to silence it.\n\n\n\nAs you defend your own innocence\, you will be called upon to\n\ndecipher between the downtrodden and the downright deceitful \n\nthat is\, unless the murderer is you!\n\n\n\n$25 General Admission - Non-Character Ticket Includes:\n\n- Non-alcoholic beverages\n\n- Lite Snacks \n\n- Observe the show from a distance\, no character\n\n\n\n$45 Individual Character Ticket Includes:\n\n- Non-alcoholic beverages\n\n- Lite Snacks \n\n- Assigned Character \n\n* Acting is not required (but highly encouraged).\n\n\n\n$75 Couples Ticket Includes:\n\n- Non-alcoholic beverages\n\n- Lite Snacks (Food available for purchase.)\n\n- Assigned Characters for TWO People\n\n* Acting is not required (but highly encouraged).\n\n\n\nCash bar\n\n\n\n** All ticket information will be EMAILED\, please ensure you use a valid email you can check frequently.**\n\n\n\nCrime Scene Entertainment brings you the ultimate Murder Mystery experience! Show off your sleuthing skills as you piece together clues and uncover "who dunnit". During our events\, you may even discover that YOU are\, in fact\, the murderer\, or victim!\n\n\n\n?You have the option of being a murder mystery character or just an observer\, but these mystery events are NOT setup like a play. Our mysteries are a hands on\, immersive experience. For those not wishing to be a character\, you will need to work harder to gather clues\, as you won't have set objectives. You will be given a brief description of the main characters & will witness the murder\, investigation\, evidence presentation and lastly solution. You will have to go above and beyond to retrieve information from the characters\, or by listening closely to your surroundings.\n\n\n\nFor those that chose to be characters\, you will be given step by step instruction on how to play your character for the night\, but it's up to you to show off your characters personality and expand on your objectives.\n\n\n\nIf you are unclear on how things work\, or have any questions\, please reach out to us prior to purchase! Tickets are non-refundable.\n\n\n\nTicket Policy\n\nAll sales final. Tickets are Non-refundable. Tickets involve assigned characters that play an important role in the murder mystery (unless general admission is selected)\, therefore\, ticket transfers will only be accepted on a case by case basis\, within 30 days of the event. Personalized materials are created &amp\; cannot be changed last minute.\n\n\n\nBeing that all guests are assigned a character & have objectives they need to complete throughout the night\, we can not be held responsible for how the overall mystery plays out. We will do our best to keep the mystery flowing as it's intended\, but have no control over a guest leaking information before it's time etc.
X-ALT-DESC;FMTTYPE=text/html:<span style="background-color:rgb(255\, 255\, 255)\; color:rgb(29\, 33\, 41)\; font-family:helvetica\,arial\,sans-serif\; font-size:14px">An evening of gladiator warfare and celebration is planned</span><br />\n<span style="background-color:rgb(255\, 255\, 255)\; color:rgb(29\, 33\, 41)\; font-family:helvetica\,arial\,sans-serif\; font-size:14px">for all of Rome to enjoy.</span><br />\n<br />\n<span style="background-color:rgb(255\, 255\, 255)\; color:rgb(29\, 33\, 41)\; font-family:helvetica\,arial\,sans-serif\; font-size:14px">At the heart of the excitement sits Felix Festus\, a lanista looking to win the public favor &ndash\; and in doing so\, a Senate seat &ndash\; with the donation of his gladiators for exhibition. While no lives will be taken in the ring\; honor\, pride and the grand champion title are all at stake in the exhibition.</span><br />\n<br />\n<span style="background-color:rgb(255\, 255\, 255)\; color:rgb(29\, 33\, 41)\; font-family:helvetica\,arial\,sans-serif\; font-size:14px">Although lives will be spared in the arena\, the same will not hold true at the festivities.</span><br />\n<br />\n<span style="background-color:rgb(255\, 255\, 255)\; color:rgb(29\, 33\, 41)\; font-family:helvetica\,arial\,sans-serif\; font-size:14px">One Roman will take their last breath at the party and it will be up to you to search out the guilty from the guileful. Was it the brute in a fight for his freedom? A senator unwilling to award another seat? A socialite who will not accept a rising of the classes? Or perhaps a slave whose secret runs so deep that murder is the only way to silence it.</span><br />\n<br />\n<span style="background-color:rgb(255\, 255\, 255)\; color:rgb(29\, 33\, 41)\; font-family:helvetica\,arial\,sans-serif\; font-size:14px">As you defend your own innocence\, you will be called upon to</span><br />\n<span style="background-color:rgb(255\, 255\, 255)\; color:rgb(29\, 33\, 41)\; font-family:helvetica\,arial\,sans-serif\; font-size:14px">decipher between the downtrodden and the downright deceitful&hellip\;</span><br />\n<span style="background-color:rgb(255\, 255\, 255)\; color:rgb(29\, 33\, 41)\; font-family:helvetica\,arial\,sans-serif\; font-size:14px">that is\, unless the murderer is you!</span><br />\n<br />\n<span style="background-color:rgb(255\, 255\, 255)\; color:rgb(29\, 33\, 41)\; font-family:helvetica\,arial\,sans-serif\; font-size:14px">$25 General Admission - Non-Character Ticket Includes:</span><br />\n<span style="background-color:rgb(255\, 255\, 255)\; color:rgb(29\, 33\, 41)\; font-family:helvetica\,arial\,sans-serif\; font-size:14px">- Non-alcoholic beverages</span><br />\n<span style="background-color:rgb(255\, 255\, 255)\; color:rgb(29\, 33\, 41)\; font-family:helvetica\,arial\,sans-serif\; font-size:14px">- Lite Snacks </span><br />\n<span style="background-color:rgb(255\, 255\, 255)\; color:rgb(29\, 33\, 41)\; font-family:helvetica\,arial\,sans-serif\; font-size:14px">- Observe the show from a distance\, no character</span><br />\n<br />\n<span style="background-color:rgb(255\, 255\, 255)\; color:rgb(29\, 33\, 41)\; font-family:helvetica\,arial\,sans-serif\; font-size:14px">$45 Individual Character Ticket Includes:</span><br />\n<span style="background-color:rgb(255\, 255\, 255)\; color:rgb(29\, 33\, 41)\; font-family:helvetica\,arial\,sans-serif\; font-size:14px">- Non-alcoholic beverages</span><br />\n<span style="background-color:rgb(255\, 255\, 255)\; color:rgb(29\, 33\, 41)\; font-family:helvetica\,arial\,sans-serif\; font-size:14px">- Lite Snacks </span><br />\n<span style="background-color:rgb(255\, 255\, 255)\; color:rgb(29\, 33\, 41)\; font-family:helvetica\,arial\,sans-serif\; font-size:14px">- Assigned Character </span><br />\n<span style="background-color:rgb(255\, 255\, 255)\; color:rgb(29\, 33\, 41)\; font-family:helvetica\,arial\,sans-serif\; font-size:14px">* Acting is not required (but highly encouraged).</span><br />\n<br />\n<span style="background-color:rgb(255\, 255\, 255)\; color:rgb(29\, 33\, 41)\; font-family:helvetica\,arial\,sans-serif\; font-size:14px">$75 Couples Ticket Includes:</span><br />\n<span style="background-color:rgb(255\, 255\, 255)\; color:rgb(29\, 33\, 41)\; font-family:helvetica\,arial\,sans-serif\; font-size:14px">- Non-alcoholic beverages</span><br />\n<span style="background-color:rgb(255\, 255\, 255)\; color:rgb(29\, 33\, 41)\; font-family:helvetica\,arial\,sans-serif\; font-size:14px">- Lite Snacks (Food available for purchase.)</span><br />\n<span style="background-color:rgb(255\, 255\, 255)\; color:rgb(29\, 33\, 41)\; font-family:helvetica\,arial\,sans-serif\; font-size:14px">- Assigned Characters for TWO People</span><br />\n<span style="background-color:rgb(255\, 255\, 255)\; color:rgb(29\, 33\, 41)\; font-family:helvetica\,arial\,sans-serif\; font-size:14px">* Acting is not required (but highly encouraged).</span><br />\n<br />\n<span style="background-color:rgb(255\, 255\, 255)\; color:rgb(29\, 33\, 41)\; font-family:helvetica\,arial\,sans-serif\; font-size:14px">Cash bar</span><br />\n<br />\n<span style="background-color:rgb(255\, 255\, 255)\; color:rgb(29\, 33\, 41)\; font-family:helvetica\,arial\,sans-serif\; font-size:14px">** All ticket information will be EMAILED\, please ensure you use a valid email you can check frequently.**</span><br />\n<br />\n<span style="background-color:rgb(255\, 255\, 255)\; color:rgb(29\, 33\, 41)\; font-family:helvetica\,arial\,sans-serif\; font-size:14px">Crime Scene Entertainment brings you the ultimate Murder Mystery experience! Show off your sleuthing skills as you piece together clues and uncover &quot\;who dunnit&quot\;. During our events\, you may even discover that YOU are\, in fact\, the murderer\, or victim!</span><br />\n<br />\n<span style="background-color:rgb(255\, 255\, 255)\; color:rgb(29\, 33\, 41)\; font-family:helvetica\,arial\,sans-serif\; font-size:14px">?You have the option of being a murder mystery character or just an observer\, but these mystery events are NOT setup like a play. Our mysteries are a hands on\, immersive experience. For those not wishing to be a character\, you will need to work harder to gather clues\, as you won&#39\;t have set objectives. You will be given a brief description of the main characters &amp\; will witness the murder\, investigation\, evidence presentation and lastly solution. You will have to go above and beyond to retrieve information from the characters\, or by listening closely to your surroundings.</span><br />\n<br />\n<span style="background-color:rgb(255\, 255\, 255)\; color:rgb(29\, 33\, 41)\; font-family:helvetica\,arial\,sans-serif\; font-size:14px">For those that chose to be characters\, you will be given step by step instruction on how to play your character for the night\, but it&#39\;s up to you to show off your characters personality and expand on your objectives.</span><br />\n<br />\n<span style="background-color:rgb(255\, 255\, 255)\; color:rgb(29\, 33\, 41)\; font-family:helvetica\,arial\,sans-serif\; font-size:14px">If you are unclear on how things work\, or have any questions\, please reach out to us prior to purchase! Tickets are non-refundable.</span><br />\n<br />\n<span style="background-color:rgb(255\, 255\, 255)\; color:rgb(29\, 33\, 41)\; font-family:helvetica\,arial\,sans-serif\; font-size:14px">Ticket Policy</span><br />\n<span style="background-color:rgb(255\, 255\, 255)\; color:rgb(29\, 33\, 41)\; font-family:helvetica\,arial\,sans-serif\; font-size:14px">All sales final. Tickets are Non-refundable. Tickets involve assigned characters that play an important role in the murder mystery (unless general admission is selected)\, therefore\, ticket transfers will only be accepted on a case by case basis\, within 30 days of the event. Personalized materials are created &amp\;amp\; cannot be changed last minute.</span><br />\n<br />\n<span style="background-color:rgb(255\, 255\, 255)\; color:rgb(29\, 33\, 41)\; font-family:helvetica\,arial\,sans-serif\; font-size:14px">Being that all guests are assigned a character &amp\; have objectives they need to complete throughout the night\, we can not be held responsible for how the overall mystery plays out. We will do our best to keep the mystery flowing as it&#39\;s intended\, but have no control over a guest leaking information before it&#39\;s time etc.</span>
LOCATION:1701 N 4th St. Suite D Coeur d'Alene\, ID 83815 (Located on the Spruce St. side of the building. Corner of Spruce & 4th St.)
UID:e.3132.3131
SEQUENCE:3
DTSTAMP:20260421T222224Z
URL:https://chambertest.marketingbeaver.com/events/details/terror-in-a-toga-a-murder-mystery-event-3131
END:VEVENT

END:VCALENDAR
