BEGIN:VCALENDAR
VERSION:2.0
PRODID:-//ChamberMaster//Event Calendar 2.0//EN
METHOD:PUBLISH
X-PUBLISHED-TTL:P3D
REFRESH-INTERVAL:P3D
CALSCALE:GREGORIAN
BEGIN:VEVENT
DTSTART:20210211T013000Z
DTEND:20210211T033000Z
X-MICROSOFT-CDO-ALLDAYEVENT:FALSE
SUMMARY:Sip\, Sample & Savor Feb. 10\, 2021
DESCRIPTION:Pre Valentine Celebration!\n\nBring you Sweetheart and join the Hayden Chamber of Commerce at LiveforBlu Gallery & Wine Bar for a Fun Fundraising Event!\n\nWednesday\, February 10\, 2021\n\nEnjoy wine paired with Delicious Charcuterie and Chocolates provided by M&M Event & Party Planning!\n\nLive music by Keanu!\n\nTickets are only $30 per person.\n\nRegister at www.haydenchamber.org/events
X-ALT-DESC;FMTTYPE=text/html:Pre Valentine Celebration!<br />\nBring you Sweetheart and join the Hayden Chamber of Commerce at LiveforBlu Gallery &amp\; Wine Bar for a Fun Fundraising Event!<br />\nWednesday\, February 10\, 2021<br />\nEnjoy wine paired with Delicious Charcuterie and Chocolates provided by M&amp\;M Event &amp\; Party Planning!<br />\nLive music by Keanu!<br />\nTickets are only $30 per person.<br />\nRegister at www.haydenchamber.org/events
LOCATION:LiveforBlu Gallery & Wine Bar 505 E. Sherman Avenue Coeur d'Alene\, ID 83814
UID:e.3132.3158
SEQUENCE:3
DTSTAMP:20260421T172550Z
URL:https://chambertest.marketingbeaver.com/events/details/sip-sample-savor-feb-10-2021-3158
END:VEVENT

END:VCALENDAR
