BEGIN:VCALENDAR
VERSION:2.0
PRODID:-//ChamberMaster//Event Calendar 2.0//EN
METHOD:PUBLISH
X-PUBLISHED-TTL:P3D
REFRESH-INTERVAL:P3D
CALSCALE:GREGORIAN
BEGIN:VEVENT
DTSTART:20201009T003000Z
DTEND:20201009T013000Z
X-MICROSOFT-CDO-ALLDAYEVENT:FALSE
SUMMARY:Safe Sleep 101 Live Online
DESCRIPTION:Join us to learn all about how to keep your baby safe during sleep! We will review the American Academy of Pediatric Safe Infant Sleep recommendations and answer ALL of your questions concerning sleep safety. Each family will receive a free Halo Sleep Sack. This class is perfect for anyone who will be caring for your baby so please bring them along! We do ask you to register so we can prepare for how many people will be attending. *This class fulfills the City of Coeur d'Alene's requirement for licensed child care providers *This class fulfills the requirement to receive a portable crib
X-ALT-DESC;FMTTYPE=text/html:Join us to learn all about how to keep your baby safe during sleep! We will review the American Academy of Pediatric Safe Infant Sleep recommendations and answer ALL of your questions concerning sleep safety. Each family will receive a free Halo Sleep Sack. This class is perfect for anyone who will be caring for your baby so please bring them along! We do ask you to register so we can prepare for how many people will be attending. *This class fulfills the City of Coeur d&#39\;Alene&#39\;s requirement for licensed child care providers *This class fulfills the requirement to receive a portable crib
LOCATION:Online Zoom
UID:e.3132.3100
SEQUENCE:3
DTSTAMP:20260421T235123Z
URL:https://chambertest.marketingbeaver.com/events/details/safe-sleep-101-live-online-10-08-2020-3100
END:VEVENT

END:VCALENDAR
