BEGIN:VCALENDAR
VERSION:2.0
PRODID:-//ChamberMaster//Event Calendar 2.0//EN
METHOD:PUBLISH
X-PUBLISHED-TTL:P3D
REFRESH-INTERVAL:P3D
CALSCALE:GREGORIAN
BEGIN:VEVENT
DTSTART:20220112T170000Z
DTEND:20220112T200000Z
X-MICROSOFT-CDO-ALLDAYEVENT:FALSE
SUMMARY:Perk it Up 22' Networking Evnt
DESCRIPTION:Perk it Up 22' is a massive Networking event to start off your new year with new contacts\, new clients and new referrals! A structured networking event to maximize your contacts\, you will leave with a years worth of contacts\, a full database of all attendees and a private Facebook page for everyone to STAY connected all year long! $49 to register at https://www.eventbrite.com/e/perk-it-up-22-a-massive-b-2-b-networking-event-tickets-174571306477
X-ALT-DESC;FMTTYPE=text/html:<span style="color:#333333"><span style="font-family:arial\,sans-serif"><span style="font-size:10pt">Perk it Up 22&#39\; is a massive Networking event to start off your new year with new contacts\, new clients and new referrals! A structured networking event to maximize your contacts\, you will leave with a years worth of contacts\, a full database of all attendees and a private Facebook page for everyone to STAY connected all year long! $49 to register at&nbsp\;<a href="https://www.eventbrite.com/e/perk-it-up-22-a-massive-b-2-b-networking-event-tickets-174571306477" style="color:rgb(149\, 79\, 114)\;">https://www.eventbrite.com/e/perk-it-up-22-a-massive-b-2-b-networking-event-tickets-174571306477</a></span></span></span>
LOCATION:Salvation Army Kroc Center- East Entrance 9am-Noon
UID:e.3132.4009
SEQUENCE:3
DTSTAMP:20260422T085857Z
URL:https://chambertest.marketingbeaver.com/events/details/perk-it-up-22-networking-evnt-4009
END:VEVENT

END:VCALENDAR
