BEGIN:VCALENDAR
VERSION:2.0
PRODID:-//ChamberMaster//Event Calendar 2.0//EN
METHOD:PUBLISH
X-PUBLISHED-TTL:P3D
REFRESH-INTERVAL:P3D
CALSCALE:GREGORIAN
BEGIN:VEVENT
DTSTART:20210103T020000Z
DTEND:20210103T060000Z
X-MICROSOFT-CDO-ALLDAYEVENT:FALSE
SUMMARY:Murder in Oz - A Murder Mystery
DESCRIPTION:When the tornado dropped Dorothy and Toto in the Wonderful Land of Oz\, no one stopped to question how the house landed right on top of the Wicked Witch of the East! After Dorothy returned to Oz however\, an inquiry was launched\, and it was determined that the East Witch's death was PREMEDITATED! The suspects have been identified and\, with varying degrees of magic\, returned to the Land of Oz for the investigation to take place. Who orchestrated the death of the East Witch under Dorothy's house that fateful day? All your favorite characters from the classic book have returned\, and it's up to the suspects and investigators to determine who had the motive\, means and opportunity to commit murder in the Land of Oz!
X-ALT-DESC;FMTTYPE=text/html:<span style="background-color:rgb(255\, 255\, 255)\; color:rgb(29\, 33\, 41)\; font-family:helvetica\,arial\,sans-serif\; font-size:14px">When the tornado dropped Dorothy and Toto in the Wonderful Land of Oz\, no one stopped to question how the house landed right on top of the Wicked Witch of the East! After Dorothy returned to Oz however\, an inquiry was launched\, and it was determined that the East Witch&rsquo\;s death was PREMEDITATED! The suspects have been identified and\, with varying degrees of magic\, returned to the Land of Oz for the investigation to take place. Who orchestrated the death of the East Witch under Dorothy&rsquo\;s house that fateful day? All your favorite characters from the classic book have returned\, and it&rsquo\;s up to the suspects and investigators to determine who had the motive\, means and opportunity to commit murder in the Land of Oz!</span>
LOCATION:1701 N 4th St. Unit D Coeur d'Alene\, ID 83815 (Located on the Spruce side of the building. Corner of Spruce and 4th St.)
UID:e.3132.3137
SEQUENCE:3
DTSTAMP:20260421T185544Z
URL:https://chambertest.marketingbeaver.com/events/details/murder-in-oz-a-murder-mystery-3137
END:VEVENT

END:VCALENDAR
