BEGIN:VCALENDAR
VERSION:2.0
PRODID:-//ChamberMaster//Event Calendar 2.0//EN
METHOD:PUBLISH
X-PUBLISHED-TTL:P3D
REFRESH-INTERVAL:P3D
CALSCALE:GREGORIAN
BEGIN:VEVENT
DTSTART:20201115T020000Z
DTEND:20201115T060000Z
X-MICROSOFT-CDO-ALLDAYEVENT:FALSE
SUMMARY:Murder Behind the Daebub Mirror - A Murder Mystery
DESCRIPTION:We recommend 16 years+ for this mystery. There is no highly objectionable content (foul language\, drugs\, sexual innuendos)\, but there are mentions in the story of demons\, ghosts\, evil sorcerers\, aliens from other planets\, serial killers\, mobsters\, and other malignant beings.\n\n\n\nAn indiscriminate group has received invitations to a mysterious affair called the Nevermore Gala. All anybody knows is that it will be an unforgettable bash held behind the mystifying Mirror of Daebub   an ancient relic that was recently purchased by one of Manhattan's elite at an exclusive art auction. Nobody knows the reason\, but the tycoon had second thoughts about his purchase and sold the magical mirror to an unknown buyer in the town of Nevermore   over two-thousand miles away. \n\n\n\nWill you have the nerve to take a step into the mirror and face what lurks behind?
X-ALT-DESC;FMTTYPE=text/html:<span style="background-color:rgb(255\, 255\, 255)\; color:rgb(29\, 33\, 41)\; font-family:helvetica\,arial\,sans-serif\; font-size:14px">We recommend 16 years+ for this mystery. There is no highly objectionable content (foul language\, drugs\, sexual innuendos)\, but there are mentions in the story of demons\, ghosts\, evil sorcerers\, aliens from other planets\, serial killers\, mobsters\, and other malignant beings.</span><br />\n<br />\n<span style="background-color:rgb(255\, 255\, 255)\; color:rgb(29\, 33\, 41)\; font-family:helvetica\,arial\,sans-serif\; font-size:14px">An indiscriminate group has received invitations to a mysterious affair called the Nevermore Gala. All anybody knows is that it will be an unforgettable bash held behind the mystifying Mirror of Daebub &ndash\; an ancient relic that was recently purchased by one of Manhattan&rsquo\;s elite at an exclusive art auction. Nobody knows the reason\, but the tycoon had second thoughts about his purchase and sold the magical mirror to an unknown buyer in the town of Nevermore &ndash\; over two-thousand miles away. </span><br />\n<br />\n<span style="background-color:rgb(255\, 255\, 255)\; color:rgb(29\, 33\, 41)\; font-family:helvetica\,arial\,sans-serif\; font-size:14px">Will you have the nerve to take a step into the mirror and face what lurks behind?</span>
LOCATION:1701 N 4th St. Suite D Coeur d'Alene\, Idaho 83815 (Located on the Spruce St. side of the building. Corner of Spruce & 4th St.)
UID:e.3132.3132
SEQUENCE:3
DTSTAMP:20260421T222121Z
URL:https://chambertest.marketingbeaver.com/events/details/murder-behind-the-daebub-mirror-a-murder-mystery-3132
END:VEVENT

END:VCALENDAR
