BEGIN:VCALENDAR
VERSION:2.0
PRODID:-//ChamberMaster//Event Calendar 2.0//EN
METHOD:PUBLISH
X-PUBLISHED-TTL:P3D
REFRESH-INTERVAL:P3D
CALSCALE:GREGORIAN
BEGIN:VEVENT
DTSTART:20201107T020000Z
DTEND:20201107T060000Z
X-MICROSOFT-CDO-ALLDAYEVENT:FALSE
SUMMARY:Murder at the Sanitarium - A Murder Mystery
DESCRIPTION:Join us for one of our most challenging mysteries!\n\n\n\nThis is an exclusive event\, with only 15 characters available! (General Admission welcome)\n\nThe maximum security unit of the Bloodstone Sanitarium is where defendants declared not guilty by reason of insanity are transported after their murder trial. These patients end up spending a majority of their time in isolation since they often threaten bodily harm to others.\n\n\n\nNonetheless\, the hospital administrator of the Bloodstone Sanitarium has decided to host a Halloween party for this unit to prove to the city government there are no longer problems with this facility. In recent news stories\, there have been reports of missing patients\, injuries to medical staff\, as well as an escapee who rampaged the town of Gothenburg.\n\n\n\nThe patients of the maximum security unit are thrilled about the celebration. The staff members are dreading the event\, but do not have a choice but to attend if they wish to keep their jobs.\n\nAre you brave enough to attend?
X-ALT-DESC;FMTTYPE=text/html:<span style="background-color:rgb(255\, 255\, 255)\; color:rgb(29\, 33\, 41)\; font-family:helvetica\,arial\,sans-serif\; font-size:14px">Join us for one of our most challenging mysteries!</span><br />\n<br />\n<span style="background-color:rgb(255\, 255\, 255)\; color:rgb(29\, 33\, 41)\; font-family:helvetica\,arial\,sans-serif\; font-size:14px">This is an exclusive event\, with only 15 characters available! (General Admission welcome)</span><br />\n<span style="background-color:rgb(255\, 255\, 255)\; color:rgb(29\, 33\, 41)\; font-family:helvetica\,arial\,sans-serif\; font-size:14px">The maximum security unit of the Bloodstone Sanitarium is where defendants declared not guilty by reason of insanity are transported after their murder trial. These patients end up spending a majority of their time in isolation since they often threaten bodily harm to others.</span><br />\n<br />\n<span style="background-color:rgb(255\, 255\, 255)\; color:rgb(29\, 33\, 41)\; font-family:helvetica\,arial\,sans-serif\; font-size:14px">Nonetheless\, the hospital administrator of the Bloodstone Sanitarium has decided to host a Halloween party for this unit to prove to the city government there are no longer problems with this facility. In recent news stories\, there have been reports of missing patients\, injuries to medical staff\, as well as an escapee who rampaged the town of Gothenburg.</span><br />\n<br />\n<span style="background-color:rgb(255\, 255\, 255)\; color:rgb(29\, 33\, 41)\; font-family:helvetica\,arial\,sans-serif\; font-size:14px">The patients of the maximum security unit are thrilled about the celebration. The staff members are dreading the event\, but do not have a choice but to attend if they wish to keep their jobs.</span><br />\n<span style="background-color:rgb(255\, 255\, 255)\; color:rgb(29\, 33\, 41)\; font-family:helvetica\,arial\,sans-serif\; font-size:14px">Are you brave enough to attend?</span>
LOCATION:1701 N 4th St. Suite D Coeur d'Alene\, ID 83815 (Located on the Spruce St. side of the building - Corner of 4th St. & Spruce St.)
UID:e.3132.3129
SEQUENCE:3
DTSTAMP:20260421T221601Z
URL:https://chambertest.marketingbeaver.com/events/details/murder-at-the-sanitarium-a-murder-mystery-3129
END:VEVENT

END:VCALENDAR
