BEGIN:VCALENDAR
VERSION:2.0
PRODID:-//ChamberMaster//Event Calendar 2.0//EN
METHOD:PUBLISH
X-PUBLISHED-TTL:P3D
REFRESH-INTERVAL:P3D
CALSCALE:GREGORIAN
BEGIN:VEVENT
DTSTART:20210128T210000Z
DTEND:20210128T220000Z
X-MICROSOFT-CDO-ALLDAYEVENT:FALSE
SUMMARY:Let's PLAY! - Theater Basics & Games
DESCRIPTION:A theatrical performance is called a 'play' for a reason\, it's meant to be FUN! Come try out theater and improv games\, learn need-to-know theater facts\, and beginning character creation.\n\n \n\nThis will be a 4-part series\, however\, you're welcome to attend one\, two\, three or all four! Each class will be a little different!\n\n\n\nRecommended for ages 6+ (if your child can read and is younger\, they may attend!)
X-ALT-DESC;FMTTYPE=text/html:<div>A theatrical performance is called a &#39\;play&#39\; for a reason\, it&#39\;s meant to be FUN! Come try out theater and improv games\, learn need-to-know theater facts\, and beginning character creation.<br />\n&nbsp\;</div>\n\n<div>This will be a 4-part series\, however\, you&#39\;re welcome to attend one\, two\, three or all four! Each class will be a little different!<br />\n<br />\nRecommended for ages 6+ (if your child can read and is younger\, they may attend!)</div>\n
LOCATION:Crime Scene Entertainment 1701 N 4th St. Suite D Coeur d'Alene\, ID 83814
UID:e.3132.3154
SEQUENCE:3
DTSTAMP:20260421T185728Z
URL:https://chambertest.marketingbeaver.com/events/details/let-s-play-theater-basics-games-01-28-2021-3154
END:VEVENT

END:VCALENDAR
