BEGIN:VCALENDAR
VERSION:2.0
PRODID:-//ChamberMaster//Event Calendar 2.0//EN
METHOD:PUBLISH
X-PUBLISHED-TTL:P3D
REFRESH-INTERVAL:P3D
CALSCALE:GREGORIAN
BEGIN:VEVENT
DTSTART;VALUE=DATE:20210103
DTEND;VALUE=DATE:20210201
TRANSP:TRANSPARENT
X-MICROSOFT-CDO-ALLDAYEVENT:TRUE
SUMMARY:January Shrimp Special at the Coeur d'Alene Inn!
DESCRIPTION:Shrimp Special $6.99 Mulligan's Restaurant begins Jan 3rd
X-ALT-DESC;FMTTYPE=text/html:Shrimp Special $6.99 Mulligan&#39\;s Restaurant begins Jan 3rd&nbsp\;
LOCATION:Coeur d'Alene Inn
UID:e.3132.3144
SEQUENCE:3
DTSTAMP:20260421T185845Z
URL:https://chambertest.marketingbeaver.com/events/details/january-shrimp-special-at-the-coeur-d-alene-inn-3144
END:VEVENT

END:VCALENDAR
