BEGIN:VCALENDAR
VERSION:2.0
PRODID:-//ChamberMaster//Event Calendar 2.0//EN
METHOD:PUBLISH
X-PUBLISHED-TTL:P3D
REFRESH-INTERVAL:P3D
CALSCALE:GREGORIAN
BEGIN:VEVENT
DTSTART:20201010T160000Z
DTEND:20201010T180000Z
X-MICROSOFT-CDO-ALLDAYEVENT:FALSE
SUMMARY:Early Learning Academies - Session Two
DESCRIPTION:The Early Learning Academies are a FREE unique opportunity to learn from early childhood professionals in three webinar sessions and receive FREE early learning resources and materials to support the growth and development of children from birth through age five. Anyone who works with children from 0 - 5 is encouraged to attend. WEBINAR SESSION TWO: Understanding Trauma and Its Impact on Early Learning Saturday | October 10\, 2020 9   11 AM PDT | 10 AM   noon MDT    Examine the impact of trauma on human development. Learn how to use a strengths-based lens to promote positive outcomes for young children.    Explore the concept of HOPE (Health Outcomes from Positive    Experiences) and ways to support children's healthy growth and development. The Early Learning Academies are made possible by the Idaho Association for the Education of Young Children\, the IdahoSTARS Project\, Idaho Children's Trust Fund\, Lakeshore Learning\, and Lee Pesky Learning Center. Professional Development Certificates will be available to all attendees at the conclusion of each webinar session.
X-ALT-DESC;FMTTYPE=text/html:The Early Learning Academies are a FREE unique opportunity to learn from early childhood professionals in three webinar sessions and receive FREE early learning resources and materials to support the growth and development of children from birth through age five. Anyone who works with children from 0 - 5 is encouraged to attend. WEBINAR SESSION TWO: Understanding Trauma and Its Impact on Early Learning Saturday | October 10\, 2020 9 &ndash\; 11 AM PDT | 10 AM &ndash\; noon MDT &gt\;&gt\; Examine the impact of trauma on human development. Learn how to use a strengths-based lens to promote positive outcomes for young children. &gt\;&gt\; Explore the concept of HOPE (Health Outcomes from Positive &gt\;&gt\; Experiences) and ways to support children&rsquo\;s healthy growth and development. The Early Learning Academies are made possible by the Idaho Association for the Education of Young Children\, the IdahoSTARS Project\, Idaho Children&#39\;s Trust Fund\, Lakeshore Learning\, and Lee Pesky Learning Center. Professional Development Certificates will be available to all attendees at the conclusion of each webinar session.
LOCATION:Online
UID:e.3132.3078
SEQUENCE:3
DTSTAMP:20260421T234825Z
URL:https://chambertest.marketingbeaver.com/events/details/early-learning-academies-session-two-3078
END:VEVENT

END:VCALENDAR
