BEGIN:VCALENDAR
VERSION:2.0
PRODID:-//ChamberMaster//Event Calendar 2.0//EN
METHOD:PUBLISH
X-PUBLISHED-TTL:P3D
REFRESH-INTERVAL:P3D
CALSCALE:GREGORIAN
BEGIN:VEVENT
DTSTART;VALUE=DATE:20210223
DTEND;VALUE=DATE:20210401
TRANSP:TRANSPARENT
X-MICROSOFT-CDO-ALLDAYEVENT:TRUE
SUMMARY:Chicken Fried Steak Special in Mulligan's
DESCRIPTION:Chicken Fried Steak Special $6.99/person Available Dine-In or Takout! Special begins Feb 23rd through March 31st
X-ALT-DESC;FMTTYPE=text/html:Chicken Fried Steak Special $6.99/person Available Dine-In or Takout! Special begins Feb 23rd through March 31st
LOCATION:Coeur d'Alene Inn
UID:e.3132.3364
SEQUENCE:3
DTSTAMP:20260421T155400Z
URL:https://chambertest.marketingbeaver.com/events/details/chicken-fried-steak-special-in-mulligan-s-3364
END:VEVENT

END:VCALENDAR
