BEGIN:VCALENDAR
VERSION:2.0
PRODID:-//ChamberMaster//Event Calendar 2.0//EN
METHOD:PUBLISH
X-PUBLISHED-TTL:P3D
REFRESH-INTERVAL:P3D
CALSCALE:GREGORIAN
BEGIN:VEVENT
DTSTART:20201217T153000Z
DTEND:20201217T161000Z
X-MICROSOFT-CDO-ALLDAYEVENT:FALSE
SUMMARY:Business & Breakfast FOCUS ON NON-PROFITS December 17\, 2020
DESCRIPTION:Hayden Chamber\n\nBusiness & Breakfast!!\n\nVirtual Breakfast Meeting!  \n\nDecember Program - FOCUS ON NON-PROFITS\n\n\n\n\n\nFacebook page (For viewers): https://www.facebook.com/haydenchamber/posts/3546870325393703 \n\nYouTube page (For viewers): https://www.youtube.com/channel/UCtBBvkcmcjRXrkXymUeDgiQ/featured?view_as=subscriber
X-ALT-DESC;FMTTYPE=text/html:<strong style="color: rgb(51\, 51\, 51)\; font-family: verdana\; font-size: 22px\; text-align: center\; background-color: rgb(255\, 255\, 255)\;">Hayden Chamber<br />\nBusiness &amp\; Breakfast!!<br />\nVirtual Breakfast Meeting!&nbsp\;&nbsp\;<br />\nDecember Program - FOCUS ON NON-PROFITS</strong><br />\n<br />\n<br style="color: inherit\; font: inherit\; letter-spacing: inherit\; text-align: inherit\; text-indent: inherit\; text-transform: inherit\; white-space: inherit\; word-spacing: inherit\; background: none\; box-sizing: content-box\; bottom: auto\; clear: none\; content: normal\; direction: inherit\; display: inline\; empty-cells: show\; float: none\; left: auto\; margin: 0px\; max-height: none\; max-width: none\; min-height: initial\; min-width: initial\; opacity: 1\; outline-offset: 0px\; overflow: visible\; padding: 0px\; position: static\; resize: none\; right: auto\; table-layout: auto\; text-overflow: clip\; top: auto\; vertical-align: baseline\; visibility: inherit\; word-break: inherit\; overflow-wrap: inherit\; z-index: auto\; border: none\; border-collapse: separate\; border-radius: 0px\; height: auto\; width: auto\;" />\nFacebook page (For viewers):&nbsp\;<a href="https://www.facebook.com/haydenchamber/posts/3546870325393703">https://www.facebook.com/haydenchamber/posts/3546870325393703</a>&nbsp\;<br />\nYouTube page (For viewers):&nbsp\;<a href="https://www.youtube.com/channel/UCtBBvkcmcjRXrkXymUeDgiQ/featured?view_as=subscriber">https://www.youtube.com/channel/UCtBBvkcmcjRXrkXymUeDgiQ/featured?view_as=subscriber</a>&nbsp\;<br />\n<br />\n&nbsp\;
LOCATION:VIRTUAL BREAKFAST: Facebook page (For viewers): https://www.facebook.com/haydenchamber/posts/3546870325393703 YouTube page (For viewers): https://www.youtube.com/channel/UCtBBvkcmcjRXrkXymUeDgiQ/featured?view_as=subscriber
UID:e.3132.3010
SEQUENCE:3
DTSTAMP:20260421T203043Z
URL:https://chambertest.marketingbeaver.com/events/details/business-breakfast-focus-on-non-profits-december-17-2020-3010
END:VEVENT

END:VCALENDAR
