BEGIN:VCALENDAR
VERSION:2.0
PRODID:-//ChamberMaster//Event Calendar 2.0//EN
METHOD:PUBLISH
X-PUBLISHED-TTL:P3D
REFRESH-INTERVAL:P3D
CALSCALE:GREGORIAN
BEGIN:VEVENT
DTSTART:20201204T000000Z
DTEND:20201204T013000Z
X-MICROSOFT-CDO-ALLDAYEVENT:FALSE
SUMMARY:Board of Directors Meeting - December 2020
DESCRIPTION:Monthly Board of Directors Meeting for the\n\nHayden Chamber of Commerce Board of Directors
X-ALT-DESC;FMTTYPE=text/html:Monthly Board of Directors Meeting for the<br />\nHayden Chamber of Commerce Board of Directors
LOCATION:Hayden\, Idaho
UID:e.3132.3004
SEQUENCE:3
DTSTAMP:20260421T203223Z
URL:https://chambertest.marketingbeaver.com/events/details/board-of-directors-meeting-december-2020-3004
END:VEVENT

END:VCALENDAR
