BEGIN:VCALENDAR
VERSION:2.0
PRODID:-//ChamberMaster//Event Calendar 2.0//EN
METHOD:PUBLISH
X-PUBLISHED-TTL:P3D
REFRESH-INTERVAL:P3D
CALSCALE:GREGORIAN
BEGIN:VEVENT
DTSTART:20201107T190000Z
DTEND:20201107T220000Z
X-MICROSOFT-CDO-ALLDAYEVENT:FALSE
SUMMARY:Bingo & Burgers Lunch
DESCRIPTION:Tickets are $15 per person. The ticket fee includes admission and a meal. Bingo tickets will be available for purchase upon arrival for $5 apiece. Each bingo ticket includes 8 games. There is no limit on the number of bingo tickets you can purchase. Meal to include burgers\, sides\, dessert\, and a drink. Must be 18 or older to play per Idaho lottery license. Admission tickets must be purchased in advance\, not available for purchase at the door. There are two time frames to choose from \, 11:00 am - 2:00 pm or 5:00pm - 8:00pm. Please select and purchase tickets for the time you would like to attend.
X-ALT-DESC;FMTTYPE=text/html:Tickets are $15 per person. The ticket fee includes admission and a meal. Bingo tickets will be available for purchase upon arrival for $5 apiece. Each bingo ticket includes 8 games. There is no limit on the number of bingo tickets you can purchase. Meal to include burgers\, sides\, dessert\, and a drink. Must be 18 or older to play per Idaho lottery license. Admission tickets must be purchased in advance\, not available for purchase at the door. There are two time frames to choose from \, 11:00 am - 2:00 pm or 5:00pm - 8:00pm. Please select and purchase tickets for the time you would like to attend.
LOCATION:Hayden Senior Center 9428 N. Government Way Hayden\, ID 83835
UID:e.3132.3126
SEQUENCE:3
DTSTAMP:20260421T221306Z
URL:https://chambertest.marketingbeaver.com/events/details/bingo-burgers-lunch-3126
END:VEVENT

END:VCALENDAR
