BEGIN:VCALENDAR
VERSION:2.0
PRODID:-//ChamberMaster//Event Calendar 2.0//EN
METHOD:PUBLISH
X-PUBLISHED-TTL:P3D
REFRESH-INTERVAL:P3D
CALSCALE:GREGORIAN
BEGIN:VEVENT
DTSTART:20201108T010000Z
DTEND:20201108T040000Z
X-MICROSOFT-CDO-ALLDAYEVENT:FALSE
SUMMARY:Bingo & Burgers Dinner
DESCRIPTION:Tickets are $15 per person. The ticket fee includes admission and a meal. Bingo tickets will be available for purchase upon arrival for $15 apiece. Each bingo ticket includes 8 games. There is no limit on the number of bingo tickets you can purchase. Meal to include burgers\, sides\, dessert\, and a drink. Must be 18 or older to play per Idaho lottery license. Admission tickets must be purchased in advance\, not available for purchase at the door. There are two time frames to choose from \, 11:00 am - 2:00 pm or 5:00pm - 8:00pm. Please select and purchase tickets for the time you would like to attend. Beer & wine to be served at Bingo & Burgers dinner from 5-8 pm.
X-ALT-DESC;FMTTYPE=text/html:<div>\n<div>\n<div>\n<div>\n<p>Tickets are $15 per person. The ticket fee includes admission and a meal. Bingo tickets will be available for purchase upon arrival for $15 apiece. Each bingo ticket includes 8 games. There is no limit on the number of bingo tickets you can purchase. Meal to include burgers\, sides\, dessert\, and a drink. Must be 18 or older to play per Idaho lottery license. Admission tickets must be purchased in advance\, not available for purchase at the door. There are two time frames to choose from \, 11:00 am - 2:00 pm or 5:00pm - 8:00pm. Please select and purchase tickets for the time you would like to attend. Beer &amp\; wine to be served at Bingo &amp\; Burgers dinner from 5-8 pm.</p>\n</div>\n</div>\n</div>\n</div>\n\n<div>\n<div>&nbsp\;</div>\n</div>\n
LOCATION:Hayden Senior Center 9428 N. Government Way Hayden\, ID 83835
UID:e.3132.3127
SEQUENCE:3
DTSTAMP:20260421T221145Z
URL:https://chambertest.marketingbeaver.com/events/details/bingo-burgers-dinner-3127
END:VEVENT

END:VCALENDAR
