BEGIN:VCALENDAR
VERSION:2.0
PRODID:-//ChamberMaster//Event Calendar 2.0//EN
METHOD:PUBLISH
X-PUBLISHED-TTL:P3D
REFRESH-INTERVAL:P3D
CALSCALE:GREGORIAN
BEGIN:VEVENT
DTSTART:20201010T020000Z
DTEND:20201010T040000Z
X-MICROSOFT-CDO-ALLDAYEVENT:FALSE
SUMMARY:20th Year Celebration Dinner
DESCRIPTION:Open Arms Real Choices Clinic is celebrating 20 years of serving our community! Join us for a beautiful evening at the Coeur d'Alene Resort\, featuring music by The Powers\, delicious food\, a dynamic speaker\, inspirational stories\, and live auction. You won't want to miss it!
X-ALT-DESC;FMTTYPE=text/html:Open Arms Real Choices Clinic is celebrating 20 years of serving our community! Join us for a beautiful evening at the Coeur d&#39\;Alene Resort\, featuring music by The Powers\, delicious food\, a dynamic speaker\, inspirational stories\, and live auction. You won&#39\;t want to miss it!
LOCATION:Coeur d'Alene Resort
UID:e.3132.3076
SEQUENCE:3
DTSTAMP:20260421T235501Z
URL:https://chambertest.marketingbeaver.com/events/details/20th-year-celebration-dinner-3076
END:VEVENT

END:VCALENDAR
